BEGIN:VCALENDAR
VERSION:2.0
PRODID:-//Antigonish Golf Club - ECPv6.15.14//NONSGML v1.0//EN
CALSCALE:GREGORIAN
METHOD:PUBLISH
X-WR-CALNAME:Antigonish Golf Club
X-ORIGINAL-URL:https://www.antigonishgolfclub.ns.ca
X-WR-CALDESC:Events for Antigonish Golf Club
REFRESH-INTERVAL;VALUE=DURATION:PT1H
X-Robots-Tag:noindex
X-PUBLISHED-TTL:PT1H
BEGIN:VTIMEZONE
TZID:Europe/Paris
BEGIN:DAYLIGHT
TZOFFSETFROM:+0100
TZOFFSETTO:+0200
TZNAME:CEST
DTSTART:20240331T010000
END:DAYLIGHT
BEGIN:STANDARD
TZOFFSETFROM:+0200
TZOFFSETTO:+0100
TZNAME:CET
DTSTART:20241027T010000
END:STANDARD
BEGIN:DAYLIGHT
TZOFFSETFROM:+0100
TZOFFSETTO:+0200
TZNAME:CEST
DTSTART:20250330T010000
END:DAYLIGHT
BEGIN:STANDARD
TZOFFSETFROM:+0200
TZOFFSETTO:+0100
TZNAME:CET
DTSTART:20251026T010000
END:STANDARD
BEGIN:DAYLIGHT
TZOFFSETFROM:+0100
TZOFFSETTO:+0200
TZNAME:CEST
DTSTART:20260329T010000
END:DAYLIGHT
BEGIN:STANDARD
TZOFFSETFROM:+0200
TZOFFSETTO:+0100
TZNAME:CET
DTSTART:20261025T010000
END:STANDARD
END:VTIMEZONE
BEGIN:VEVENT
DTSTART;VALUE=DATE:20250902
DTEND;VALUE=DATE:20250903
DTSTAMP:20260421T182904
CREATED:20250328T141734Z
LAST-MODIFIED:20250515T152524Z
UID:2762-1756771200-1756857599@www.antigonishgolfclub.ns.ca
SUMMARY:Ladies Scramble
DESCRIPTION:
URL:https://www.antigonishgolfclub.ns.ca/event/ladies-scramble/
LOCATION:Antigonish Golf Club\, 87 Cloverville Road\, Antigonish\, NS\, B2G2M7\, Canada
END:VEVENT
BEGIN:VEVENT
DTSTART;VALUE=DATE:20250903
DTEND;VALUE=DATE:20250904
DTSTAMP:20260421T182904
CREATED:20250328T141914Z
LAST-MODIFIED:20250515T152615Z
UID:2764-1756857600-1756943999@www.antigonishgolfclub.ns.ca
SUMMARY:Men's Scramble
DESCRIPTION:
URL:https://www.antigonishgolfclub.ns.ca/event/mens-scramble/
LOCATION:Antigonish Golf Club\, 87 Cloverville Road\, Antigonish\, NS\, B2G2M7\, Canada
END:VEVENT
BEGIN:VEVENT
DTSTART;VALUE=DATE:20250905
DTEND;VALUE=DATE:20250906
DTSTAMP:20260421T182904
CREATED:20250328T142055Z
LAST-MODIFIED:20250515T152637Z
UID:2766-1757030400-1757116799@www.antigonishgolfclub.ns.ca
SUMMARY:St. Martha's
DESCRIPTION:
URL:https://www.antigonishgolfclub.ns.ca/event/st-marthas/
LOCATION:Antigonish Golf Club\, 87 Cloverville Road\, Antigonish\, NS\, B2G2M7\, Canada
END:VEVENT
BEGIN:VEVENT
DTSTART;VALUE=DATE:20250906
DTEND;VALUE=DATE:20250907
DTSTAMP:20260421T182904
CREATED:20250526T123334Z
LAST-MODIFIED:20250526T123334Z
UID:3098-1757116800-1757203199@www.antigonishgolfclub.ns.ca
SUMMARY:IWK Log a Load for Kids
DESCRIPTION:
URL:https://www.antigonishgolfclub.ns.ca/event/iwk-log-a-load-for-kids/
END:VEVENT
BEGIN:VEVENT
DTSTART;VALUE=DATE:20250910
DTEND;VALUE=DATE:20250911
DTSTAMP:20260421T182904
CREATED:20250920T142245Z
LAST-MODIFIED:20250920T142245Z
UID:3134-1757462400-1757548799@www.antigonishgolfclub.ns.ca
SUMMARY:Men's Scramble
DESCRIPTION:
URL:https://www.antigonishgolfclub.ns.ca/event/mens-scramble-2/
LOCATION:Antigonish Golf Club\, 87 Cloverville Road\, Antigonish\, NS\, B2G2M7\, Canada
ORGANIZER;CN="Cameron":MAILTO:cameron@antigonishgolfclub.ns.ca
END:VEVENT
BEGIN:VEVENT
DTSTART;VALUE=DATE:20250911
DTEND;VALUE=DATE:20250912
DTSTAMP:20260421T182904
CREATED:20250328T143158Z
LAST-MODIFIED:20250805T133746Z
UID:2771-1757548800-1757635199@www.antigonishgolfclub.ns.ca
SUMMARY:Senior High Crest Open
DESCRIPTION:
URL:https://www.antigonishgolfclub.ns.ca/event/senior-high-crest-open/
LOCATION:Antigonish Golf Club\, 87 Cloverville Road\, Antigonish\, NS\, B2G2M7\, Canada
END:VEVENT
BEGIN:VEVENT
DTSTART;VALUE=DATE:20250913
DTEND;VALUE=DATE:20250914
DTSTAMP:20260421T182904
CREATED:20250825T163056Z
LAST-MODIFIED:20250825T163139Z
UID:3125-1757721600-1757807999@www.antigonishgolfclub.ns.ca
SUMMARY:StFX Hockey Scramble
DESCRIPTION:
URL:https://www.antigonishgolfclub.ns.ca/event/stfx-hockey-scramble/
END:VEVENT
BEGIN:VEVENT
DTSTART;VALUE=DATE:20250914
DTEND;VALUE=DATE:20250915
DTSTAMP:20260421T182904
CREATED:20250423T180042Z
LAST-MODIFIED:20250515T152656Z
UID:2894-1757808000-1757894399@www.antigonishgolfclub.ns.ca
SUMMARY:Sunday Rang Game
DESCRIPTION:Players teeing off before 12pm are eligible \n$10 cash paid to the Pro Shop \n70% paid out. 30% toward the Hadley Cup \nYear long standings to compete in the Hadley Cup \nBlue Tee & White Tee Divisions
URL:https://www.antigonishgolfclub.ns.ca/event/sunday-rang-game-7/
END:VEVENT
BEGIN:VEVENT
DTSTART;VALUE=DATE:20250917
DTEND;VALUE=DATE:20250918
DTSTAMP:20260421T182904
CREATED:20250920T142412Z
LAST-MODIFIED:20250920T142412Z
UID:3137-1758067200-1758153599@www.antigonishgolfclub.ns.ca
SUMMARY:Men's Scramble
DESCRIPTION:
URL:https://www.antigonishgolfclub.ns.ca/event/mens-scramble-3/
LOCATION:Antigonish Golf Club\, 87 Cloverville Road\, Antigonish\, NS\, B2G2M7\, Canada
ORGANIZER;CN="Cameron":MAILTO:cameron@antigonishgolfclub.ns.ca
END:VEVENT
BEGIN:VEVENT
DTSTART;VALUE=DATE:20250920
DTEND;VALUE=DATE:20250921
DTSTAMP:20260421T182904
CREATED:20250825T163356Z
LAST-MODIFIED:20250825T163429Z
UID:3130-1758326400-1758412799@www.antigonishgolfclub.ns.ca
SUMMARY:Luke Brown Memorial Scramble
DESCRIPTION:
URL:https://www.antigonishgolfclub.ns.ca/event/luke-brown-memorial-scramble/
END:VEVENT
BEGIN:VEVENT
DTSTART;VALUE=DATE:20250924
DTEND;VALUE=DATE:20250925
DTSTAMP:20260421T182904
CREATED:20250920T142530Z
LAST-MODIFIED:20250920T142530Z
UID:3140-1758672000-1758758399@www.antigonishgolfclub.ns.ca
SUMMARY:Men's Scramble
DESCRIPTION:
URL:https://www.antigonishgolfclub.ns.ca/event/mens-scramble-4/
LOCATION:Antigonish Golf Club\, 87 Cloverville Road\, Antigonish\, NS\, B2G2M7\, Canada
ORGANIZER;CN="Cameron":MAILTO:cameron@antigonishgolfclub.ns.ca
END:VEVENT
BEGIN:VEVENT
DTSTART;VALUE=DATE:20250927
DTEND;VALUE=DATE:20250928
DTSTAMP:20260421T182904
CREATED:20250328T152622Z
LAST-MODIFIED:20250515T152827Z
UID:2777-1758931200-1759017599@www.antigonishgolfclub.ns.ca
SUMMARY:Men's Scramble Finale
DESCRIPTION:
URL:https://www.antigonishgolfclub.ns.ca/event/mens-scramble-finale-2/
LOCATION:Antigonish Golf Club\, 87 Cloverville Road\, Antigonish\, NS\, B2G2M7\, Canada
END:VEVENT
BEGIN:VEVENT
DTSTART;VALUE=DATE:20250930
DTEND;VALUE=DATE:20251001
DTSTAMP:20260421T182904
CREATED:20250328T151803Z
LAST-MODIFIED:20250515T152848Z
UID:2775-1759190400-1759276799@www.antigonishgolfclub.ns.ca
SUMMARY:Ladies Scramble Finale
DESCRIPTION:
URL:https://www.antigonishgolfclub.ns.ca/event/ladies-scramble-finale/
LOCATION:Antigonish Golf Club\, 87 Cloverville Road\, Antigonish\, NS\, B2G2M7\, Canada
END:VEVENT
END:VCALENDAR