BEGIN:VCALENDAR
VERSION:2.0
PRODID:-//Antigonish Golf Club - ECPv6.15.14//NONSGML v1.0//EN
CALSCALE:GREGORIAN
METHOD:PUBLISH
X-WR-CALNAME:Antigonish Golf Club
X-ORIGINAL-URL:https://www.antigonishgolfclub.ns.ca
X-WR-CALDESC:Events for Antigonish Golf Club
REFRESH-INTERVAL;VALUE=DURATION:PT1H
X-Robots-Tag:noindex
X-PUBLISHED-TTL:PT1H
BEGIN:VTIMEZONE
TZID:Europe/Paris
BEGIN:DAYLIGHT
TZOFFSETFROM:+0100
TZOFFSETTO:+0200
TZNAME:CEST
DTSTART:20240331T010000
END:DAYLIGHT
BEGIN:STANDARD
TZOFFSETFROM:+0200
TZOFFSETTO:+0100
TZNAME:CET
DTSTART:20241027T010000
END:STANDARD
BEGIN:DAYLIGHT
TZOFFSETFROM:+0100
TZOFFSETTO:+0200
TZNAME:CEST
DTSTART:20250330T010000
END:DAYLIGHT
BEGIN:STANDARD
TZOFFSETFROM:+0200
TZOFFSETTO:+0100
TZNAME:CET
DTSTART:20251026T010000
END:STANDARD
BEGIN:DAYLIGHT
TZOFFSETFROM:+0100
TZOFFSETTO:+0200
TZNAME:CEST
DTSTART:20260329T010000
END:DAYLIGHT
BEGIN:STANDARD
TZOFFSETFROM:+0200
TZOFFSETTO:+0100
TZNAME:CET
DTSTART:20261025T010000
END:STANDARD
END:VTIMEZONE
BEGIN:VEVENT
DTSTART;VALUE=DATE:20250715
DTEND;VALUE=DATE:20250716
DTSTAMP:20260419T233848
CREATED:20250515T155559Z
LAST-MODIFIED:20250515T155559Z
UID:3013-1752537600-1752623999@www.antigonishgolfclub.ns.ca
SUMMARY:Ladies League
DESCRIPTION:Can play anytime during the day \nLadies Only tee times between 330PM & 530PM \nTo register for Ladies League\, see the Pro Shop
URL:https://www.antigonishgolfclub.ns.ca/event/ladies-league-4/
END:VEVENT
BEGIN:VEVENT
DTSTART;VALUE=DATE:20250709
DTEND;VALUE=DATE:20250710
DTSTAMP:20260419T233848
CREATED:20250328T124124Z
LAST-MODIFIED:20250613T185456Z
UID:2754-1752019200-1752105599@www.antigonishgolfclub.ns.ca
SUMMARY:KILTED Golf Tournament (Since 1962)
DESCRIPTION:  \nMorning Registration: https://golfgenius.com/ggid/kiltedmorning \nAfternoon Registration:  https://golfgenius.com/ggid/kiltedafternoon
URL:https://www.antigonishgolfclub.ns.ca/event/kilted/
LOCATION:Antigonish Golf Club\, 87 Cloverville Road\, Antigonish\, NS\, B2G2M7\, Canada
END:VEVENT
BEGIN:VEVENT
DTSTART;VALUE=DATE:20250708
DTEND;VALUE=DATE:20250709
DTSTAMP:20260419T233848
CREATED:20250515T155946Z
LAST-MODIFIED:20250515T160038Z
UID:3019-1751932800-1752019199@www.antigonishgolfclub.ns.ca
SUMMARY:Ladies League
DESCRIPTION:Can play anytime during the day \nLadies Only tee times between 330PM & 530PM \nTo register for Ladies League\, see the Pro Shop
URL:https://www.antigonishgolfclub.ns.ca/event/ladies-league-7/
END:VEVENT
BEGIN:VEVENT
DTSTART;VALUE=DATE:20250706
DTEND;VALUE=DATE:20250707
DTSTAMP:20260419T233848
CREATED:20250423T175557Z
LAST-MODIFIED:20250510T230207Z
UID:2874-1751760000-1751846399@www.antigonishgolfclub.ns.ca
SUMMARY:Sunday Rang Game
DESCRIPTION:Players teeing off before 12pm are eligible \n$10 cash paid to the Pro Shop \n70% paid out. 30% toward the Hadley Cup \nYear long standings to compete in the Hadley Cup \nBlue Tee & White Tee Divisions
URL:https://www.antigonishgolfclub.ns.ca/event/sunday-rang-game-4/
END:VEVENT
BEGIN:VEVENT
DTSTART;VALUE=DATE:20250703
DTEND;VALUE=DATE:20250704
DTSTAMP:20260419T233848
CREATED:20250328T124027Z
LAST-MODIFIED:20250424T121923Z
UID:2752-1751500800-1751587199@www.antigonishgolfclub.ns.ca
SUMMARY:Junior League
DESCRIPTION:9 Holes \nJunior Members or Junior Green Fees Only \nClosest to the Pin \nHot Dog and Pepsi Product for lunch
URL:https://www.antigonishgolfclub.ns.ca/event/junior-league-begins/
LOCATION:Antigonish Golf Club\, 87 Cloverville Road\, Antigonish\, NS\, B2G2M7\, Canada
END:VEVENT
BEGIN:VEVENT
DTSTART;VALUE=DATE:20250702
DTEND;VALUE=DATE:20250703
DTSTAMP:20260419T233848
CREATED:20250423T172007Z
LAST-MODIFIED:20250423T172007Z
UID:2855-1751414400-1751500799@www.antigonishgolfclub.ns.ca
SUMMARY:Winmar Men's League
DESCRIPTION:Tee Times are blocked from 2:30pm-7:00pm \nReserved for Men’s League players. Extra times may be filled by Male members.
URL:https://www.antigonishgolfclub.ns.ca/event/winmar-mens-league-7/
END:VEVENT
BEGIN:VEVENT
DTSTART;VALUE=DATE:20250701
DTEND;VALUE=DATE:20250702
DTSTAMP:20260419T233848
CREATED:20250515T155441Z
LAST-MODIFIED:20250515T155506Z
UID:3010-1751328000-1751414399@www.antigonishgolfclub.ns.ca
SUMMARY:Ladies League
DESCRIPTION:Happy Canada Day!!!! \n  \nCan play anytime during the day \nLadies Only tee times between 330PM & 530PM \nTo register for Ladies League\, see the Pro Shop
URL:https://www.antigonishgolfclub.ns.ca/event/ladies-league-3/
END:VEVENT
BEGIN:VEVENT
DTSTART;VALUE=DATE:20250625
DTEND;VALUE=DATE:20250626
DTSTAMP:20260419T233848
CREATED:20250423T171920Z
LAST-MODIFIED:20250423T171936Z
UID:2853-1750809600-1750895999@www.antigonishgolfclub.ns.ca
SUMMARY:Winmar Men's League
DESCRIPTION:Tee Times are blocked from 2:30pm-7:00pm \nReserved for Men’s League players. Extra times may be filled by Male members.
URL:https://www.antigonishgolfclub.ns.ca/event/winmar-mens-league-6/
END:VEVENT
BEGIN:VEVENT
DTSTART;VALUE=DATE:20250624
DTEND;VALUE=DATE:20250625
DTSTAMP:20260419T233848
CREATED:20250328T123830Z
LAST-MODIFIED:20250423T171743Z
UID:2750-1750723200-1750809599@www.antigonishgolfclub.ns.ca
SUMMARY:Golf For Cancer Ladies Scramble
DESCRIPTION:4 Ladies Scramble \n11am Start \nFood included \nRegistration TBD
URL:https://www.antigonishgolfclub.ns.ca/event/fore-the-cure/
LOCATION:Antigonish Golf Club\, 87 Cloverville Road\, Antigonish\, NS\, B2G2M7\, Canada
END:VEVENT
BEGIN:VEVENT
DTSTART;VALUE=DATE:20250620
DTEND;VALUE=DATE:20250621
DTSTAMP:20260419T233848
CREATED:20250327T185800Z
LAST-MODIFIED:20250510T230112Z
UID:2748-1750377600-1750463999@www.antigonishgolfclub.ns.ca
SUMMARY:Bonvie MacDonald Rinks to Links Invitational
DESCRIPTION:The Rinks to Links Golf Classic continues to be our way of giving back to our home community. With your help\, we carry on our commitment to raising funds for boys and girls who cannot afford the high cost of playing minor hockey. Additional beneficiaries of the tournament have included Antigonish Early Childhood Intervention\, The Jordon Myles Foundation\, Antigonish Challenger Baseball\, Knights of Columbus Toy Drive\, Antigonish Food Bank\, Antigonish Minor Softball\, Uniquely Abled Fitness\, & Antigonish Inclusive Parabulldogs. To date we have raised $670\,000 and look forward to having you help us raise more for the kids! (https://www.bonmacr2l.ca/about-rinks-to-links/)
URL:https://www.antigonishgolfclub.ns.ca/event/https-www-bonmacr2l-ca-register-today/
LOCATION:Antigonish Golf Club\, 87 Cloverville Road\, Antigonish\, NS\, B2G2M7\, Canada
END:VEVENT
BEGIN:VEVENT
DTSTART;VALUE=DATE:20250618
DTEND;VALUE=DATE:20250619
DTSTAMP:20260419T233848
CREATED:20250423T171904Z
LAST-MODIFIED:20250423T171904Z
UID:2851-1750204800-1750291199@www.antigonishgolfclub.ns.ca
SUMMARY:Winmar Men's League
DESCRIPTION:Tee Times are blocked from 2:30pm-7:00pm \nReserved for Men’s League players. Extra times may be filled by Male members.
URL:https://www.antigonishgolfclub.ns.ca/event/winmar-mens-league-5/
END:VEVENT
BEGIN:VEVENT
DTSTART;VALUE=DATE:20250617
DTEND;VALUE=DATE:20250618
DTSTAMP:20260419T233848
CREATED:20250515T155242Z
LAST-MODIFIED:20250515T155242Z
UID:3006-1750118400-1750204799@www.antigonishgolfclub.ns.ca
SUMMARY:Ladies League
DESCRIPTION:Can play anytime during the day \nLadies Only tee times between 330PM & 530PM \nTo register for Ladies League\, see the Pro Shop
URL:https://www.antigonishgolfclub.ns.ca/event/ladies-league-2/
END:VEVENT
BEGIN:VEVENT
DTSTART;VALUE=DATE:20250611
DTEND;VALUE=DATE:20250612
DTSTAMP:20260419T233848
CREATED:20250423T171843Z
LAST-MODIFIED:20250423T171843Z
UID:2849-1749600000-1749686399@www.antigonishgolfclub.ns.ca
SUMMARY:Winmar Men's League
DESCRIPTION:Tee Times are blocked from 2:30pm-7:00pm \nReserved for Men’s League players. Extra times may be filled by Male members.
URL:https://www.antigonishgolfclub.ns.ca/event/winmar-mens-league-4/
END:VEVENT
BEGIN:VEVENT
DTSTART;VALUE=DATE:20250610
DTEND;VALUE=DATE:20250611
DTSTAMP:20260419T233848
CREATED:20250509T175806Z
LAST-MODIFIED:20250509T181826Z
UID:2986-1749513600-1749599999@www.antigonishgolfclub.ns.ca
SUMMARY:Ladies League
DESCRIPTION:Can play anytime during the day \nLadies Only tee times between 330PM & 530PM \nTo register for Ladies League\, see the Pro Shop
URL:https://www.antigonishgolfclub.ns.ca/event/ladies-league/
END:VEVENT
BEGIN:VEVENT
DTSTART;VALUE=DATE:20250607
DTEND;VALUE=DATE:20250609
DTSTAMP:20260419T233848
CREATED:20250306T193900Z
LAST-MODIFIED:20250510T225637Z
UID:2699-1749254400-1749427199@www.antigonishgolfclub.ns.ca
SUMMARY:MacDonald Chrysler Spring Shootout
DESCRIPTION:2-Person Scramble Event – Men 19+ \nTee Times Day One \nShotgun Day Two \nRegister here: https://agc-2025mensshootoutsponsoredbymacdonald.golfgenius.com/
URL:https://www.antigonishgolfclub.ns.ca/event/macdonald-chrysler-spring-shootout/
LOCATION:Antigonish Golf Club\, 87 Cloverville Road\, Antigonish\, NS\, B2G2M7\, Canada
ORGANIZER;CN="Cameron":MAILTO:cameron@antigonishgolfclub.ns.ca
END:VEVENT
BEGIN:VEVENT
DTSTART;VALUE=DATE:20250606
DTEND;VALUE=DATE:20250607
DTSTAMP:20260419T233848
CREATED:20250327T182245Z
LAST-MODIFIED:20250515T152452Z
UID:2744-1749168000-1749254399@www.antigonishgolfclub.ns.ca
SUMMARY:Antigonish Chamber of Commerce
DESCRIPTION:
URL:https://www.antigonishgolfclub.ns.ca/event/antigonish-chamber-of-commerce/
LOCATION:Antigonish Golf Club\, 87 Cloverville Road\, Antigonish\, NS\, B2G2M7\, Canada
END:VEVENT
BEGIN:VEVENT
DTSTART;VALUE=DATE:20250604
DTEND;VALUE=DATE:20250605
DTSTAMP:20260419T233848
CREATED:20250423T171542Z
LAST-MODIFIED:20250423T171542Z
UID:2845-1748995200-1749081599@www.antigonishgolfclub.ns.ca
SUMMARY:Winmar Men's League
DESCRIPTION:Tee Times are blocked from 2:30pm-7:00pm \nReserved for Men’s League players. Extra times may be filled by Male members.
URL:https://www.antigonishgolfclub.ns.ca/event/winmar-mens-league-3/
END:VEVENT
BEGIN:VEVENT
DTSTART;VALUE=DATE:20250603
DTEND;VALUE=DATE:20250604
DTSTAMP:20260419T233848
CREATED:20250327T181019Z
LAST-MODIFIED:20250509T175539Z
UID:2734-1748908800-1748995199@www.antigonishgolfclub.ns.ca
SUMMARY:Ladies League
DESCRIPTION:Can play anytime during the day \nLadies Only tee times between 330PM & 530PM \nTo register for Ladies League\, see the Pro Shop
URL:https://www.antigonishgolfclub.ns.ca/event/first-ladies-league/
LOCATION:Antigonish Golf Club\, 87 Cloverville Road\, Antigonish\, NS\, B2G2M7\, Canada
END:VEVENT
BEGIN:VEVENT
DTSTART;VALUE=DATE:20250601
DTEND;VALUE=DATE:20250602
DTSTAMP:20260419T233848
CREATED:20250423T175250Z
LAST-MODIFIED:20250423T175250Z
UID:2864-1748736000-1748822399@www.antigonishgolfclub.ns.ca
SUMMARY:Sunday Rang Game
DESCRIPTION:Players teeing off before 12pm are eligible \n$10 cash paid to the Pro Shop \n70% paid out. 30% toward the Hadley Cup \nYear long standings to compete in the Hadley Cup \nBlue Tee & White Tee Divisions
URL:https://www.antigonishgolfclub.ns.ca/event/sunday-rang-game-2/
END:VEVENT
BEGIN:VEVENT
DTSTART;VALUE=DATE:20250528
DTEND;VALUE=DATE:20250529
DTSTAMP:20260419T233848
CREATED:20250417T190414Z
LAST-MODIFIED:20250417T190532Z
UID:2834-1748390400-1748476799@www.antigonishgolfclub.ns.ca
SUMMARY:Winmar Men's League
DESCRIPTION:Tee Times are blocked from 2:30pm-7:00pm \nReserved for Men’s League players. Extra times may be filled by Male members.
URL:https://www.antigonishgolfclub.ns.ca/event/winmar-mens-league-2/
END:VEVENT
BEGIN:VEVENT
DTSTART;VALUE=DATE:20250527
DTEND;VALUE=DATE:20250528
DTSTAMP:20260419T233848
CREATED:20250417T185753Z
LAST-MODIFIED:20250515T155008Z
UID:2831-1748304000-1748390399@www.antigonishgolfclub.ns.ca
SUMMARY:Ladies Spring Scramble Series
DESCRIPTION:Play any time of the day – 4 Person Scramble – No handicaps needed \nCost is $160 per team \nQuestions or concerns\, please contact Tara (tsutherl@stfx.ca)
URL:https://www.antigonishgolfclub.ns.ca/event/ladies-spring-scramble-series-3/
END:VEVENT
BEGIN:VEVENT
DTSTART;VALUE=DATE:20250525
DTEND;VALUE=DATE:20250526
DTSTAMP:20260419T233848
CREATED:20250423T173034Z
LAST-MODIFIED:20250423T173034Z
UID:2862-1748131200-1748217599@www.antigonishgolfclub.ns.ca
SUMMARY:Sunday Rang Game
DESCRIPTION:Players teeing off before 12pm are eligible \n$10 cash paid to the Pro Shop \n70% paid out. 30% toward the Hadley Cup \nYear long standings to compete in the Hadley Cup \nBlue Tee & White Tee Divisions
URL:https://www.antigonishgolfclub.ns.ca/event/sunday-rang-game/
END:VEVENT
BEGIN:VEVENT
DTSTART;VALUE=DATE:20250524
DTEND;VALUE=DATE:20250525
DTSTAMP:20260419T233848
CREATED:20250307T191652Z
LAST-MODIFIED:20250524T225744Z
UID:2705-1748044800-1748131199@www.antigonishgolfclub.ns.ca
SUMMARY:Father Pops One Person Scramble by Eastern OKTire
DESCRIPTION:One Person Scramble \nRESULTS: CLICK HERE \nGGID: OKTIRE
URL:https://www.antigonishgolfclub.ns.ca/event/father-pops-one-person-scramble/
LOCATION:Antigonish Golf Club\, 87 Cloverville Road\, Antigonish\, NS\, B2G2M7\, Canada
END:VEVENT
BEGIN:VEVENT
DTSTART;VALUE=DATE:20250521
DTEND;VALUE=DATE:20250522
DTSTAMP:20260419T233848
CREATED:20250417T184815Z
LAST-MODIFIED:20250510T223739Z
UID:2817-1747785600-1747871999@www.antigonishgolfclub.ns.ca
SUMMARY:Winmar Men's League
DESCRIPTION:Tee Times are blocked from 2:30pm-7:00pm \nReserved for Men’s League players. Extra times may be filled by Male members. \n  \nRegister here: http://agc-2025antigonishmensleague.golfgenius.com \n 
URL:https://www.antigonishgolfclub.ns.ca/event/winmar-mens-league/
END:VEVENT
BEGIN:VEVENT
DTSTART;VALUE=DATE:20250520
DTEND;VALUE=DATE:20250521
DTSTAMP:20260419T233848
CREATED:20250417T185622Z
LAST-MODIFIED:20250515T154734Z
UID:2829-1747699200-1747785599@www.antigonishgolfclub.ns.ca
SUMMARY:Ladies Spring Scramble Series
DESCRIPTION:Play any time of the day – 4 Person Scramble – No handicaps needed \nCost is $160 per team \nQuestions or concerns\, please contact Tara (tsutherl@stfx.ca)
URL:https://www.antigonishgolfclub.ns.ca/event/ladies-spring-scramble-series-2/
END:VEVENT
BEGIN:VEVENT
DTSTART;VALUE=DATE:20250518
DTEND;VALUE=DATE:20250519
DTSTAMP:20260419T233848
CREATED:20250327T175609Z
LAST-MODIFIED:20250423T172836Z
UID:2736-1747526400-1747612799@www.antigonishgolfclub.ns.ca
SUMMARY:Sunday Rang Game
DESCRIPTION:Players teeing off before 12pm are eligible \n$10 cash paid to the Pro Shop \n70% paid out. 30% toward the Hadley Cup \nYear long standings to compete in the Hadley Cup \nBlue Tee & White Tee Divisions
URL:https://www.antigonishgolfclub.ns.ca/event/first-rang-game/
LOCATION:Antigonish Golf Club\, 87 Cloverville Road\, Antigonish\, NS\, B2G2M7\, Canada
END:VEVENT
BEGIN:VEVENT
DTSTART;VALUE=DATE:20250513
DTEND;VALUE=DATE:20250514
DTSTAMP:20260419T233848
CREATED:20250417T185343Z
LAST-MODIFIED:20250515T154755Z
UID:2824-1747094400-1747180799@www.antigonishgolfclub.ns.ca
SUMMARY:Ladies Spring Scramble Series
DESCRIPTION:Play any time of the day – 4 Person Scramble – No handicaps needed \nCost is $160 per team \nQuestions or concerns\, please contact Tara (tsutherl@stfx.ca)
URL:https://www.antigonishgolfclub.ns.ca/event/ladies-spring-scramble-series/
END:VEVENT
BEGIN:VEVENT
DTSTART;VALUE=DATE:20250506
DTEND;VALUE=DATE:20250507
DTSTAMP:20260419T233848
CREATED:20250327T175330Z
LAST-MODIFIED:20250515T154711Z
UID:2733-1746489600-1746575999@www.antigonishgolfclub.ns.ca
SUMMARY:Ladies Spring Scramble Series
DESCRIPTION:Play any time of the day – 4 Person Scramble – No handicaps needed \nCost is $160 per team \nQuestions or concerns\, please contact Tara (tsutherl@stfx.ca)
URL:https://www.antigonishgolfclub.ns.ca/event/ladies-spring-scramble/
LOCATION:Antigonish Golf Club\, 87 Cloverville Road\, Antigonish\, NS\, B2G2M7\, Canada
END:VEVENT
BEGIN:VEVENT
DTSTART;VALUE=DATE:20250501
DTEND;VALUE=DATE:20250502
DTSTAMP:20260419T233848
CREATED:20250423T171409Z
LAST-MODIFIED:20250423T171409Z
UID:2843-1746057600-1746143999@www.antigonishgolfclub.ns.ca
SUMMARY:Course Opens
DESCRIPTION:
URL:https://www.antigonishgolfclub.ns.ca/event/course-opens/
END:VEVENT
BEGIN:VEVENT
DTSTART;VALUE=DATE:20250424
DTEND;VALUE=DATE:20250425
DTSTAMP:20260419T233848
CREATED:20250417T190831Z
LAST-MODIFIED:20250417T192130Z
UID:2839-1745452800-1745539199@www.antigonishgolfclub.ns.ca
SUMMARY:Driving Range Opens
DESCRIPTION:Driving Range will be open daily from 11:00am to 6:00pm until the course is open.
URL:https://www.antigonishgolfclub.ns.ca/event/driving-range-opens/
END:VEVENT
END:VCALENDAR