BEGIN:VCALENDAR
VERSION:2.0
PRODID:-//Antigonish Golf Club - ECPv6.15.14//NONSGML v1.0//EN
CALSCALE:GREGORIAN
METHOD:PUBLISH
X-WR-CALNAME:Antigonish Golf Club
X-ORIGINAL-URL:https://www.antigonishgolfclub.ns.ca
X-WR-CALDESC:Events for Antigonish Golf Club
REFRESH-INTERVAL;VALUE=DURATION:PT1H
X-Robots-Tag:noindex
X-PUBLISHED-TTL:PT1H
BEGIN:VTIMEZONE
TZID:Europe/Paris
BEGIN:DAYLIGHT
TZOFFSETFROM:+0100
TZOFFSETTO:+0200
TZNAME:CEST
DTSTART:20250330T010000
END:DAYLIGHT
BEGIN:STANDARD
TZOFFSETFROM:+0200
TZOFFSETTO:+0100
TZNAME:CET
DTSTART:20251026T010000
END:STANDARD
BEGIN:DAYLIGHT
TZOFFSETFROM:+0100
TZOFFSETTO:+0200
TZNAME:CEST
DTSTART:20260329T010000
END:DAYLIGHT
BEGIN:STANDARD
TZOFFSETFROM:+0200
TZOFFSETTO:+0100
TZNAME:CET
DTSTART:20261025T010000
END:STANDARD
BEGIN:DAYLIGHT
TZOFFSETFROM:+0100
TZOFFSETTO:+0200
TZNAME:CEST
DTSTART:20270328T010000
END:DAYLIGHT
BEGIN:STANDARD
TZOFFSETFROM:+0200
TZOFFSETTO:+0100
TZNAME:CET
DTSTART:20271031T010000
END:STANDARD
END:VTIMEZONE
BEGIN:VEVENT
DTSTART;VALUE=DATE:20260708
DTEND;VALUE=DATE:20260709
DTSTAMP:20260419T210353
CREATED:20260407T163928Z
LAST-MODIFIED:20260407T163928Z
UID:3218-1783468800-1783555199@www.antigonishgolfclub.ns.ca
SUMMARY:The Kilted Golf Tournament
DESCRIPTION:
URL:https://www.antigonishgolfclub.ns.ca/event/the-kilted-golf-tournament/
END:VEVENT
BEGIN:VEVENT
DTSTART;VALUE=DATE:20260714
DTEND;VALUE=DATE:20260715
DTSTAMP:20260419T210353
CREATED:20260407T164007Z
LAST-MODIFIED:20260407T164017Z
UID:3220-1783987200-1784073599@www.antigonishgolfclub.ns.ca
SUMMARY:Golf Fore Cancer Ladies Scramble
DESCRIPTION:
URL:https://www.antigonishgolfclub.ns.ca/event/golf-fore-cancer-ladies-scramble/
END:VEVENT
BEGIN:VEVENT
DTSTART;VALUE=DATE:20260717
DTEND;VALUE=DATE:20260718
DTSTAMP:20260419T210353
CREATED:20260407T164043Z
LAST-MODIFIED:20260407T164247Z
UID:3222-1784246400-1784332799@www.antigonishgolfclub.ns.ca
SUMMARY:PGA Local Scramble Qualifier
DESCRIPTION:
URL:https://www.antigonishgolfclub.ns.ca/event/pga-local-scramble-qualifier/
END:VEVENT
BEGIN:VEVENT
DTSTART;VALUE=DATE:20260730
DTEND;VALUE=DATE:20260731
DTSTAMP:20260419T210353
CREATED:20260407T164310Z
LAST-MODIFIED:20260407T164310Z
UID:3224-1785369600-1785455999@www.antigonishgolfclub.ns.ca
SUMMARY:Pepsi Junior Invitational
DESCRIPTION:
URL:https://www.antigonishgolfclub.ns.ca/event/pepsi-junior-invitational-2/
END:VEVENT
BEGIN:VEVENT
DTSTART;VALUE=DATE:20260806
DTEND;VALUE=DATE:20260807
DTSTAMP:20260419T210353
CREATED:20260407T164353Z
LAST-MODIFIED:20260407T164353Z
UID:3226-1785974400-1786060799@www.antigonishgolfclub.ns.ca
SUMMARY:Junior Club Championship
DESCRIPTION:
URL:https://www.antigonishgolfclub.ns.ca/event/junior-club-championship/
END:VEVENT
BEGIN:VEVENT
DTSTART;VALUE=DATE:20260808
DTEND;VALUE=DATE:20260809
DTSTAMP:20260419T210353
CREATED:20260407T172417Z
LAST-MODIFIED:20260407T182635Z
UID:3228-1786147200-1786233599@www.antigonishgolfclub.ns.ca
SUMMARY:Club Championships Day 1
DESCRIPTION:
URL:https://www.antigonishgolfclub.ns.ca/event/club-championships-day-1/
END:VEVENT
BEGIN:VEVENT
DTSTART;VALUE=DATE:20260809
DTEND;VALUE=DATE:20260810
DTSTAMP:20260419T210353
CREATED:20260407T182709Z
LAST-MODIFIED:20260407T201710Z
UID:3230-1786233600-1786319999@www.antigonishgolfclub.ns.ca
SUMMARY:Club Championship Day 2
DESCRIPTION:
URL:https://www.antigonishgolfclub.ns.ca/event/club-championship-day-2/
END:VEVENT
END:VCALENDAR