BEGIN:VCALENDAR
VERSION:2.0
PRODID:-//Antigonish Golf Club - ECPv6.15.14//NONSGML v1.0//EN
CALSCALE:GREGORIAN
METHOD:PUBLISH
X-WR-CALNAME:Antigonish Golf Club
X-ORIGINAL-URL:https://www.antigonishgolfclub.ns.ca
X-WR-CALDESC:Events for Antigonish Golf Club
REFRESH-INTERVAL;VALUE=DURATION:PT1H
X-Robots-Tag:noindex
X-PUBLISHED-TTL:PT1H
BEGIN:VTIMEZONE
TZID:Europe/Paris
BEGIN:DAYLIGHT
TZOFFSETFROM:+0100
TZOFFSETTO:+0200
TZNAME:CEST
DTSTART:20240331T010000
END:DAYLIGHT
BEGIN:STANDARD
TZOFFSETFROM:+0200
TZOFFSETTO:+0100
TZNAME:CET
DTSTART:20241027T010000
END:STANDARD
BEGIN:DAYLIGHT
TZOFFSETFROM:+0100
TZOFFSETTO:+0200
TZNAME:CEST
DTSTART:20250330T010000
END:DAYLIGHT
BEGIN:STANDARD
TZOFFSETFROM:+0200
TZOFFSETTO:+0100
TZNAME:CET
DTSTART:20251026T010000
END:STANDARD
BEGIN:DAYLIGHT
TZOFFSETFROM:+0100
TZOFFSETTO:+0200
TZNAME:CEST
DTSTART:20260329T010000
END:DAYLIGHT
BEGIN:STANDARD
TZOFFSETFROM:+0200
TZOFFSETTO:+0100
TZNAME:CET
DTSTART:20261025T010000
END:STANDARD
BEGIN:DAYLIGHT
TZOFFSETFROM:+0100
TZOFFSETTO:+0200
TZNAME:CEST
DTSTART:20270328T010000
END:DAYLIGHT
BEGIN:STANDARD
TZOFFSETFROM:+0200
TZOFFSETTO:+0100
TZNAME:CET
DTSTART:20271031T010000
END:STANDARD
END:VTIMEZONE
BEGIN:VEVENT
DTSTART;TZID=Europe/Paris:20260421T183000
DTEND;TZID=Europe/Paris:20260421T200000
DTSTAMP:20260420T020118
CREATED:20260407T161520Z
LAST-MODIFIED:20260407T163507Z
UID:3200-1776796200-1776801600@www.antigonishgolfclub.ns.ca
SUMMARY:Women's Division Social
DESCRIPTION:Meet and greet to get things kicked off for the 2026 season!
URL:https://www.antigonishgolfclub.ns.ca/event/womens-division-social/
END:VEVENT
BEGIN:VEVENT
DTSTART;TZID=Europe/Paris:20260318T080000
DTEND;TZID=Europe/Paris:20260318T170000
DTSTAMP:20260420T020118
CREATED:20260318T142337Z
LAST-MODIFIED:20260318T142346Z
UID:3194-1773820800-1773853200@www.antigonishgolfclub.ns.ca
SUMMARY:Hulks in the Highlands Presented by Eastern OKTire
DESCRIPTION:4 Person Scramble\nLots of fun!
URL:https://www.antigonishgolfclub.ns.ca/event/hulks-in-the-highlands-presented-by-eastern-oktire/
END:VEVENT
BEGIN:VEVENT
DTSTART;VALUE=DATE:20251025
DTEND;VALUE=DATE:20251026
DTSTAMP:20260420T020118
CREATED:20250328T155553Z
LAST-MODIFIED:20250515T153315Z
UID:2785-1761350400-1761436799@www.antigonishgolfclub.ns.ca
SUMMARY:Century Nissan Hulks in the Highlands
DESCRIPTION:
URL:https://www.antigonishgolfclub.ns.ca/event/century-nissan-hulks-in-the-highlands/
LOCATION:Antigonish Golf Club\, 87 Cloverville Road\, Antigonish\, NS\, B2G2M7\, Canada
END:VEVENT
BEGIN:VEVENT
DTSTART;VALUE=DATE:20251018
DTEND;VALUE=DATE:20251019
DTSTAMP:20260420T020118
CREATED:20250328T155158Z
LAST-MODIFIED:20250515T153250Z
UID:2783-1760745600-1760831999@www.antigonishgolfclub.ns.ca
SUMMARY:Fall Classic
DESCRIPTION:
URL:https://www.antigonishgolfclub.ns.ca/event/fall-classic/
LOCATION:Antigonish Golf Club\, 87 Cloverville Road\, Antigonish\, NS\, B2G2M7\, Canada
END:VEVENT
BEGIN:VEVENT
DTSTART;VALUE=DATE:20251013
DTEND;VALUE=DATE:20251014
DTSTAMP:20260420T020118
CREATED:20250328T155037Z
LAST-MODIFIED:20250515T153228Z
UID:2781-1760313600-1760399999@www.antigonishgolfclub.ns.ca
SUMMARY:Hadley Cup
DESCRIPTION:
URL:https://www.antigonishgolfclub.ns.ca/event/hadley-cup/
LOCATION:Antigonish Golf Club\, 87 Cloverville Road\, Antigonish\, NS\, B2G2M7\, Canada
END:VEVENT
BEGIN:VEVENT
DTSTART;VALUE=DATE:20251005
DTEND;VALUE=DATE:20251006
DTSTAMP:20260420T020118
CREATED:20250328T152728Z
LAST-MODIFIED:20250515T153212Z
UID:2779-1759622400-1759708799@www.antigonishgolfclub.ns.ca
SUMMARY:Rang Game Final
DESCRIPTION:Players teeing off before 12pm are eligible \n$10 cash paid to the Pro Shop \n70% paid out. 30% toward the Hadley Cup \nYear long standings to compete in the Hadley Cup \nBlue Tee & White Tee Divisions
URL:https://www.antigonishgolfclub.ns.ca/event/rang-game-final/
LOCATION:Antigonish Golf Club\, 87 Cloverville Road\, Antigonish\, NS\, B2G2M7\, Canada
END:VEVENT
BEGIN:VEVENT
DTSTART;VALUE=DATE:20250930
DTEND;VALUE=DATE:20251001
DTSTAMP:20260420T020118
CREATED:20250328T151803Z
LAST-MODIFIED:20250515T152848Z
UID:2775-1759190400-1759276799@www.antigonishgolfclub.ns.ca
SUMMARY:Ladies Scramble Finale
DESCRIPTION:
URL:https://www.antigonishgolfclub.ns.ca/event/ladies-scramble-finale/
LOCATION:Antigonish Golf Club\, 87 Cloverville Road\, Antigonish\, NS\, B2G2M7\, Canada
END:VEVENT
BEGIN:VEVENT
DTSTART;VALUE=DATE:20250927
DTEND;VALUE=DATE:20250928
DTSTAMP:20260420T020118
CREATED:20250328T152622Z
LAST-MODIFIED:20250515T152827Z
UID:2777-1758931200-1759017599@www.antigonishgolfclub.ns.ca
SUMMARY:Men's Scramble Finale
DESCRIPTION:
URL:https://www.antigonishgolfclub.ns.ca/event/mens-scramble-finale-2/
LOCATION:Antigonish Golf Club\, 87 Cloverville Road\, Antigonish\, NS\, B2G2M7\, Canada
END:VEVENT
BEGIN:VEVENT
DTSTART;VALUE=DATE:20250924
DTEND;VALUE=DATE:20250925
DTSTAMP:20260420T020118
CREATED:20250920T142530Z
LAST-MODIFIED:20250920T142530Z
UID:3140-1758672000-1758758399@www.antigonishgolfclub.ns.ca
SUMMARY:Men's Scramble
DESCRIPTION:
URL:https://www.antigonishgolfclub.ns.ca/event/mens-scramble-4/
LOCATION:Antigonish Golf Club\, 87 Cloverville Road\, Antigonish\, NS\, B2G2M7\, Canada
ORGANIZER;CN="Cameron":MAILTO:cameron@antigonishgolfclub.ns.ca
END:VEVENT
BEGIN:VEVENT
DTSTART;VALUE=DATE:20250920
DTEND;VALUE=DATE:20250921
DTSTAMP:20260420T020118
CREATED:20250825T163356Z
LAST-MODIFIED:20250825T163429Z
UID:3130-1758326400-1758412799@www.antigonishgolfclub.ns.ca
SUMMARY:Luke Brown Memorial Scramble
DESCRIPTION:
URL:https://www.antigonishgolfclub.ns.ca/event/luke-brown-memorial-scramble/
END:VEVENT
BEGIN:VEVENT
DTSTART;VALUE=DATE:20250917
DTEND;VALUE=DATE:20250918
DTSTAMP:20260420T020118
CREATED:20250920T142412Z
LAST-MODIFIED:20250920T142412Z
UID:3137-1758067200-1758153599@www.antigonishgolfclub.ns.ca
SUMMARY:Men's Scramble
DESCRIPTION:
URL:https://www.antigonishgolfclub.ns.ca/event/mens-scramble-3/
LOCATION:Antigonish Golf Club\, 87 Cloverville Road\, Antigonish\, NS\, B2G2M7\, Canada
ORGANIZER;CN="Cameron":MAILTO:cameron@antigonishgolfclub.ns.ca
END:VEVENT
BEGIN:VEVENT
DTSTART;VALUE=DATE:20250914
DTEND;VALUE=DATE:20250915
DTSTAMP:20260420T020118
CREATED:20250423T180042Z
LAST-MODIFIED:20250515T152656Z
UID:2894-1757808000-1757894399@www.antigonishgolfclub.ns.ca
SUMMARY:Sunday Rang Game
DESCRIPTION:Players teeing off before 12pm are eligible \n$10 cash paid to the Pro Shop \n70% paid out. 30% toward the Hadley Cup \nYear long standings to compete in the Hadley Cup \nBlue Tee & White Tee Divisions
URL:https://www.antigonishgolfclub.ns.ca/event/sunday-rang-game-7/
END:VEVENT
BEGIN:VEVENT
DTSTART;VALUE=DATE:20250913
DTEND;VALUE=DATE:20250914
DTSTAMP:20260420T020118
CREATED:20250825T163056Z
LAST-MODIFIED:20250825T163139Z
UID:3125-1757721600-1757807999@www.antigonishgolfclub.ns.ca
SUMMARY:StFX Hockey Scramble
DESCRIPTION:
URL:https://www.antigonishgolfclub.ns.ca/event/stfx-hockey-scramble/
END:VEVENT
BEGIN:VEVENT
DTSTART;VALUE=DATE:20250911
DTEND;VALUE=DATE:20250912
DTSTAMP:20260420T020118
CREATED:20250328T143158Z
LAST-MODIFIED:20250805T133746Z
UID:2771-1757548800-1757635199@www.antigonishgolfclub.ns.ca
SUMMARY:Senior High Crest Open
DESCRIPTION:
URL:https://www.antigonishgolfclub.ns.ca/event/senior-high-crest-open/
LOCATION:Antigonish Golf Club\, 87 Cloverville Road\, Antigonish\, NS\, B2G2M7\, Canada
END:VEVENT
BEGIN:VEVENT
DTSTART;VALUE=DATE:20250910
DTEND;VALUE=DATE:20250911
DTSTAMP:20260420T020118
CREATED:20250920T142245Z
LAST-MODIFIED:20250920T142245Z
UID:3134-1757462400-1757548799@www.antigonishgolfclub.ns.ca
SUMMARY:Men's Scramble
DESCRIPTION:
URL:https://www.antigonishgolfclub.ns.ca/event/mens-scramble-2/
LOCATION:Antigonish Golf Club\, 87 Cloverville Road\, Antigonish\, NS\, B2G2M7\, Canada
ORGANIZER;CN="Cameron":MAILTO:cameron@antigonishgolfclub.ns.ca
END:VEVENT
BEGIN:VEVENT
DTSTART;VALUE=DATE:20250906
DTEND;VALUE=DATE:20250907
DTSTAMP:20260420T020118
CREATED:20250526T123334Z
LAST-MODIFIED:20250526T123334Z
UID:3098-1757116800-1757203199@www.antigonishgolfclub.ns.ca
SUMMARY:IWK Log a Load for Kids
DESCRIPTION:
URL:https://www.antigonishgolfclub.ns.ca/event/iwk-log-a-load-for-kids/
END:VEVENT
BEGIN:VEVENT
DTSTART;VALUE=DATE:20250905
DTEND;VALUE=DATE:20250906
DTSTAMP:20260420T020118
CREATED:20250328T142055Z
LAST-MODIFIED:20250515T152637Z
UID:2766-1757030400-1757116799@www.antigonishgolfclub.ns.ca
SUMMARY:St. Martha's
DESCRIPTION:
URL:https://www.antigonishgolfclub.ns.ca/event/st-marthas/
LOCATION:Antigonish Golf Club\, 87 Cloverville Road\, Antigonish\, NS\, B2G2M7\, Canada
END:VEVENT
BEGIN:VEVENT
DTSTART;VALUE=DATE:20250903
DTEND;VALUE=DATE:20250904
DTSTAMP:20260420T020118
CREATED:20250328T141914Z
LAST-MODIFIED:20250515T152615Z
UID:2764-1756857600-1756943999@www.antigonishgolfclub.ns.ca
SUMMARY:Men's Scramble
DESCRIPTION:
URL:https://www.antigonishgolfclub.ns.ca/event/mens-scramble/
LOCATION:Antigonish Golf Club\, 87 Cloverville Road\, Antigonish\, NS\, B2G2M7\, Canada
END:VEVENT
BEGIN:VEVENT
DTSTART;VALUE=DATE:20250902
DTEND;VALUE=DATE:20250903
DTSTAMP:20260420T020118
CREATED:20250328T141734Z
LAST-MODIFIED:20250515T152524Z
UID:2762-1756771200-1756857599@www.antigonishgolfclub.ns.ca
SUMMARY:Ladies Scramble
DESCRIPTION:
URL:https://www.antigonishgolfclub.ns.ca/event/ladies-scramble/
LOCATION:Antigonish Golf Club\, 87 Cloverville Road\, Antigonish\, NS\, B2G2M7\, Canada
END:VEVENT
BEGIN:VEVENT
DTSTART;VALUE=DATE:20250827
DTEND;VALUE=DATE:20250828
DTSTAMP:20260420T020118
CREATED:20250515T164620Z
LAST-MODIFIED:20250515T164620Z
UID:3048-1756252800-1756339199@www.antigonishgolfclub.ns.ca
SUMMARY:WINMAR Men's League Finale
DESCRIPTION:Tee Times are blocked from 2:30pm-7:00pm \nReserved for Men’s League players. Extra times may be filled by Male members.
URL:https://www.antigonishgolfclub.ns.ca/event/winmar-mens-league-finale/
END:VEVENT
BEGIN:VEVENT
DTSTART;VALUE=DATE:20250826
DTEND;VALUE=DATE:20250827
DTSTAMP:20260420T020118
CREATED:20250515T161148Z
LAST-MODIFIED:20250515T161156Z
UID:3034-1756166400-1756252799@www.antigonishgolfclub.ns.ca
SUMMARY:Ladies League
DESCRIPTION:Can play anytime during the day \nLadies Only tee times between 330PM & 530PM \nTo register for Ladies League\, see the Pro Shop
URL:https://www.antigonishgolfclub.ns.ca/event/ladies-league-13/
END:VEVENT
BEGIN:VEVENT
DTSTART;VALUE=DATE:20250822
DTEND;VALUE=DATE:20250823
DTSTAMP:20260420T020118
CREATED:20250527T172811Z
LAST-MODIFIED:20250527T180641Z
UID:3100-1755820800-1755907199@www.antigonishgolfclub.ns.ca
SUMMARY:STFX Father Kehoe Golf Classic
DESCRIPTION:Shotgun Start. Start time TBA.
URL:https://www.antigonishgolfclub.ns.ca/event/stfx-kehoe-golf-classic/
LOCATION:Antigonish Golf Club\, 87 Cloverville Road\, Antigonish\, NS\, B2G2M7\, Canada
END:VEVENT
BEGIN:VEVENT
DTSTART;VALUE=DATE:20250820
DTEND;VALUE=DATE:20250821
DTSTAMP:20260420T020118
CREATED:20250515T164326Z
LAST-MODIFIED:20250515T164326Z
UID:3046-1755648000-1755734399@www.antigonishgolfclub.ns.ca
SUMMARY:WINMAR Men's League
DESCRIPTION:Tee Times are blocked from 2:30pm-7:00pm \nReserved for Men’s League players. Extra times may be filled by Male members.
URL:https://www.antigonishgolfclub.ns.ca/event/winmar-mens-league-13/
END:VEVENT
BEGIN:VEVENT
DTSTART;VALUE=DATE:20250819
DTEND;VALUE=DATE:20250820
DTSTAMP:20260420T020118
CREATED:20250515T161058Z
LAST-MODIFIED:20250515T161120Z
UID:3032-1755561600-1755647999@www.antigonishgolfclub.ns.ca
SUMMARY:Ladies League
DESCRIPTION:Can play anytime during the day \nLadies Only tee times between 330PM & 530PM \nTo register for Ladies League\, see the Pro Shop
URL:https://www.antigonishgolfclub.ns.ca/event/ladies-league-12/
END:VEVENT
BEGIN:VEVENT
DTSTART;VALUE=DATE:20250813
DTEND;VALUE=DATE:20250814
DTSTAMP:20260420T020118
CREATED:20250515T164245Z
LAST-MODIFIED:20250515T164245Z
UID:3044-1755043200-1755129599@www.antigonishgolfclub.ns.ca
SUMMARY:WINMAR Men's League
DESCRIPTION:Tee Times are blocked from 2:30pm-7:00pm \nReserved for Men’s League players. Extra times may be filled by Male members.
URL:https://www.antigonishgolfclub.ns.ca/event/winmar-mens-league-12/
END:VEVENT
BEGIN:VEVENT
DTSTART;VALUE=DATE:20250812
DTEND;VALUE=DATE:20250813
DTSTAMP:20260420T020118
CREATED:20250515T160411Z
LAST-MODIFIED:20250515T160417Z
UID:3030-1754956800-1755043199@www.antigonishgolfclub.ns.ca
SUMMARY:Ladies League
DESCRIPTION:Can play anytime during the day \nLadies Only tee times between 330PM & 530PM \nTo register for Ladies League\, see the Pro Shop
URL:https://www.antigonishgolfclub.ns.ca/event/ladies-league-11/
END:VEVENT
BEGIN:VEVENT
DTSTART;TZID=Europe/Paris:20250809T080000
DTEND;TZID=Europe/Paris:20250810T170000
DTSTAMP:20260420T020118
CREATED:20250328T141553Z
LAST-MODIFIED:20250725T210524Z
UID:2760-1754726400-1754845200@www.antigonishgolfclub.ns.ca
SUMMARY:Club Championship Sponsored by Elite Balsam
DESCRIPTION:Please Sign-Up in Pro Shop by Tuesday Aug 5th\, lets have the biggest one yet! \n$45/per player [Includes Dinner & Lots of Prizes] \n  \nDivisions\nWomen \nSenior Women (55+) \nSuper Senior Women (70+) \nMen \nSenior Men (55+) \nSuper Senior Women (70+) \nCan anyone guess who the players are in our poster? Thats a 90’s Callaway hat\, hopefully that will lead us to the right gems on one of our greens here at AGC!
URL:https://www.antigonishgolfclub.ns.ca/event/club-championship/
LOCATION:Antigonish Golf Club\, 87 Cloverville Road\, Antigonish\, NS\, B2G2M7\, Canada
END:VEVENT
BEGIN:VEVENT
DTSTART;VALUE=DATE:20250807
DTEND;VALUE=DATE:20250808
DTSTAMP:20260420T020118
CREATED:20250725T204851Z
LAST-MODIFIED:20250725T205109Z
UID:3116-1754524800-1754611199@www.antigonishgolfclub.ns.ca
SUMMARY:Junior Club Championship by Elite Balsam
DESCRIPTION:Please Sign-Up in Pro Shop by Tuesday Aug 5th\, lets have the biggest one yet! \nFree to Participate! [Lots of Prizes] \nOpen to All AGC Juniors \nDivisions: Based on sign-up’s\, so encourage everyone to sign up!\n \nBrooke Henderson\, age 17\, can you guess what tournament she is playing in?
URL:https://www.antigonishgolfclub.ns.ca/event/junior-club-championship-by-elite-balsam/
END:VEVENT
BEGIN:VEVENT
DTSTART;VALUE=DATE:20250806
DTEND;VALUE=DATE:20250807
DTSTAMP:20260420T020118
CREATED:20250515T162916Z
LAST-MODIFIED:20250515T162923Z
UID:3042-1754438400-1754524799@www.antigonishgolfclub.ns.ca
SUMMARY:WINMAR Men's League
DESCRIPTION:Tee Times are blocked from 2:30pm-7:00pm \nReserved for Men’s League players. Extra times may be filled by Male members.
URL:https://www.antigonishgolfclub.ns.ca/event/winmar-mens-league-11/
END:VEVENT
BEGIN:VEVENT
DTSTART;VALUE=DATE:20250805
DTEND;VALUE=DATE:20250806
DTSTAMP:20260420T020118
CREATED:20250515T160323Z
LAST-MODIFIED:20250515T160323Z
UID:3028-1754352000-1754438399@www.antigonishgolfclub.ns.ca
SUMMARY:Ladies League
DESCRIPTION:Can play anytime during the day \nLadies Only tee times between 330PM & 530PM \nTo register for Ladies League\, see the Pro Shop
URL:https://www.antigonishgolfclub.ns.ca/event/ladies-league-10/
END:VEVENT
END:VCALENDAR